BEGIN:VCALENDAR
VERSION:2.0
PRODID:-//Bullseye Running - ECPv5.7.0//NONSGML v1.0//EN
CALSCALE:GREGORIAN
METHOD:PUBLISH
X-WR-CALNAME:Bullseye Running
X-ORIGINAL-URL:https://www.bullseyerunning.com
X-WR-CALDESC:Events for Bullseye Running
BEGIN:VTIMEZONE
TZID:UTC
BEGIN:STANDARD
TZOFFSETFROM:+0000
TZOFFSETTO:+0000
TZNAME:UTC
DTSTART:20180101T000000
END:STANDARD
END:VTIMEZONE
BEGIN:VEVENT
DTSTART;TZID=UTC:20180421T090000
DTEND;TZID=UTC:20180421T110000
DTSTAMP:20260422T211712
CREATED:20180115T222350Z
LAST-MODIFIED:20180115T222350Z
UID:1874-1524301200-1524308400@www.bullseyerunning.com
SUMMARY:1st Annual Knights of Columbus Spring 8K & 4K
DESCRIPTION:Welcome.  Are you ready for a spring race at the Shrine of St. Anthony in Ellicott City?  This race is brought to you by the same Knights of Columbus Council that organizes the Labor Day Running Classic every year.  We decided to add a spring race and have come up with a 4K and an 8K that are entirely on the grounds of the Shrine.  The 1st half of the 4K (approx. 2.5 miles) is on roads on the property and the 2nd half is on trails (mulch and dirt) that are well maintained by members of our council.  The 8K (approx. 5 miles) will be 2 laps of the same course as the 4K. \nThe course has been officially measured and we will have chip timing of the event by Bullseye Running.  We also plan to provide finishing medals to all participants who are pre registered.  We will have post race refreshments and will have awards for the top 3 male and female finishers in both races. \nWe will also have a kids fun run and will have finishing medals for them as well if pre registered. \nWe are raising funds for our council\, local charities and the Youth Ministry at our church\, St. Louis Parish in Clarksville\, MD. \nEvent details and schedule\nWhere: Shrine of St. Anthony 12290 Folly Quarter Road\, Ellicott City\, MD 21042 \nWhen: Saturday\, April 21st\, 9:00 a.m. \nParking: Like our Labor Day running Classic\, we will have parking attendants assisting parking cars upon entering the Shrine property. \nPrice: $20 individual\, either race.  Price increases to $25 on April 14th thru race day. \n$50 for a family up to 4 (immediate family\, same household) either race.  Price increases to $60 on April 14th.   Kids in families larger than 5 are $10 each.
URL:https://www.bullseyerunning.com/event/1st-annual-knights-of-columbus-spring-8k-4k/
LOCATION:Shrine of St. Anthony\, 12290 Folly Quarter Road\, Ellicott City\, MD\, 21042\, United States
ORGANIZER;CN="St.%20Louis%20the%20King%20Knights%20of%20Columbus":MAILTO:dangradi@verizon.net
END:VEVENT
END:VCALENDAR