BEGIN:VCALENDAR
VERSION:2.0
PRODID:-//Bullseye Running - ECPv5.7.0//NONSGML v1.0//EN
CALSCALE:GREGORIAN
METHOD:PUBLISH
X-WR-CALNAME:Bullseye Running
X-ORIGINAL-URL:https://www.bullseyerunning.com
X-WR-CALDESC:Events for Bullseye Running
BEGIN:VTIMEZONE
TZID:UTC
BEGIN:STANDARD
TZOFFSETFROM:+0000
TZOFFSETTO:+0000
TZNAME:UTC
DTSTART:20210101T000000
END:STANDARD
END:VTIMEZONE
BEGIN:VEVENT
DTSTART;TZID=UTC:20210703T080000
DTEND;TZID=UTC:20210703T100000
DTSTAMP:20260422T053357
CREATED:20210530T013515Z
LAST-MODIFIED:20210702T165103Z
UID:2548-1625299200-1625306400@www.bullseyerunning.com
SUMMARY:38th Annual Arbutus Firecracker 10k - July 3 2021
DESCRIPTION:Late registration and packet pick up will be at Feet First Sports in Columbia from 12-7pm on Friday July 2 (5305 Village Center Dr #110\, Columbia\, MD 21044).  Please try to stop by but if you can’t you can sign up morning at the starting line starting at 6:30am.  Late entries are welcome and will be $40 (CASH ONLY) so tell your friends. \n38th Annual race which has the runners make their way through Arbutus including running down the parade route. No shirts but everyone will get a cooler bag and the first 300 finishers get a medal. $100 for 1st overall and $40 for 1st in each 4 year age group (18 and under\, 19-22\, 23-26\, 27-30\, 31-34\, 35-38\, 39-42\, 43-46\, 47-50\, 51-54\, 55-58\, 59-62\, 63-66\, 67-70 and 71 & over).
URL:https://www.bullseyerunning.com/event/38th-annual-arbutus-firecracker-10k-july-3-2021/
LOCATION:Arbutus Middle School\, 5525 Shelbourne Rd\, Baltimore\, MD\, 21227\, United States
ORGANIZER;CN="Bullseye%20Running":MAILTO:coachlang@bullseyerunning.com
END:VEVENT
END:VCALENDAR