BEGIN:VCALENDAR
VERSION:2.0
PRODID:-//Bullseye Running - ECPv5.7.0//NONSGML v1.0//EN
CALSCALE:GREGORIAN
METHOD:PUBLISH
X-WR-CALNAME:Bullseye Running
X-ORIGINAL-URL:https://www.bullseyerunning.com
X-WR-CALDESC:Events for Bullseye Running
BEGIN:VTIMEZONE
TZID:UTC
BEGIN:STANDARD
TZOFFSETFROM:+0000
TZOFFSETTO:+0000
TZNAME:UTC
DTSTART:20180101T000000
END:STANDARD
END:VTIMEZONE
BEGIN:VEVENT
DTSTART;TZID=UTC:20180407T080000
DTEND;TZID=UTC:20180407T103000
DTSTAMP:20260422T213716
CREATED:20171023T151941Z
LAST-MODIFIED:20180328T150848Z
UID:1833-1523088000-1523097000@www.bullseyerunning.com
SUMMARY:7k Run to Remember
DESCRIPTION:The Maryland State’s Attorneys’ Association presents the Fifth Annual 7k Run to Remember at beautiful Centennial Park on Saturday\, April 7th\, 2018 at 8:00am.  The charity run/walk will benefit the Maryland Network Against Domestic Violence and coincides with National Crime Victims’ Rights Week.  The race length (4.3 miles) represents one-k for every day of observance or remembrance. There is a 1 mile walk as well.  Register by March 25th to guarantee yourself a race shirt! \n  \nEvent details and schedule\nThe 7k run starts and finishes at the boat dock adjacent to the park’s Centennial Lake.  The course will exit the park and run along MD Rt. 108 before returning to the park\, following the bike path around the lake.  Centennial Park is located at 10000 MD. Rt. 108\, just west of U.S. Route 29 in Ellicott City.  In addition to the 54-acre lake\, the award-winning park features a 2.6 mile paved pathway around the lake and numerous picnic areas and pavilions.  Packet pick-up will be held on  Friday\, April 6th at Road Runner Sports in Elkridge from 4 p.m. to 8 p.m. and on race morning starting at 7 a.m.  The 7k starts at 8 a.m. and the 1 mile walk shortly thereafter.  Awards for the top male and female finishers donated by Road Runner Sports.  Age division awards donated by Road Runner Sports and Princeton Sports.  Stick around for post run food and drinks by the lake!
URL:https://www.bullseyerunning.com/event/7k-run-to-remember-2/
LOCATION:Centennial Lake\, 10000 Maryland 108\, Ellicott City\, MD\, 21042\, United States
ORGANIZER;CN="Maryland%20State%27s%20Attorneys%27%20Association":MAILTO:kimoldham@ymail.com
END:VEVENT
END:VCALENDAR