BEGIN:VCALENDAR
VERSION:2.0
PRODID:-//Bullseye Running - ECPv5.7.0//NONSGML v1.0//EN
CALSCALE:GREGORIAN
METHOD:PUBLISH
X-WR-CALNAME:Bullseye Running
X-ORIGINAL-URL:https://www.bullseyerunning.com
X-WR-CALDESC:Events for Bullseye Running
BEGIN:VTIMEZONE
TZID:UTC
BEGIN:STANDARD
TZOFFSETFROM:+0000
TZOFFSETTO:+0000
TZNAME:UTC
DTSTART:20180101T000000
END:STANDARD
END:VTIMEZONE
BEGIN:VEVENT
DTSTART;TZID=UTC:20180210T080000
DTEND;TZID=UTC:20180210T160000
DTSTAMP:20260422T220452
CREATED:20170815T023236Z
LAST-MODIFIED:20180202T051946Z
UID:1774-1518249600-1518278400@www.bullseyerunning.com
SUMMARY:7th Annual Mid-Maryland Ultra 50k and Relay
DESCRIPTION:SOLD OUT. NO PREMIUMS REMAINING\, SORRY. \nSaturday February 10\, 2018 at the Rockburn Branch Park\, 6145 Montgomery Rd\, Elkridge\, MD 21075\, follow road behind Rockburn Elementary School to pavilion at the end of the road. Race starts at the pavilion. No parking on grass. \n2018 RRCA Eastern Regional Ultra Championship and Trailrunner Winter Warrior Series event \n\nBe aware that the Rec & Parks can make us cancel due to weather related issues.\n50k run will follow a 10k loop through the wooded trail. No map available\, sorry!\nLet others know about a relay team option\, made up of 2 to 5 people\, exchange options are at each 10k mark.\nFriday 2/9/18 packet pick up from 4:30-7:30pm at Feet First\, 5305 Village Center Dr\, Suite 110\, Columbia\, MD 21044\nRaces start at 8:00am; open 50k and relay will start together. NO RACE DAY REGISTRATION. Race site packet pick up will begin at 7:05am since park doesn’t open till 7am.\nQUESTIONS CAN BE DIRECTED TO COACHLANG@HOTMAIL.COM
URL:https://www.bullseyerunning.com/event/7th-annual-mid-maryland-ultra-50k-and-relay/
LOCATION:Rockburn Branch Park\, 6145 Montgomery Rd\, Elkridge\, MD\, 21075\, United States
ORGANIZER;CN="Bullseye%20Running":MAILTO:coachlang@bullseyerunning.com
END:VEVENT
END:VCALENDAR