BEGIN:VCALENDAR
VERSION:2.0
PRODID:-//Bullseye Running - ECPv5.7.0//NONSGML v1.0//EN
CALSCALE:GREGORIAN
METHOD:PUBLISH
X-WR-CALNAME:Bullseye Running
X-ORIGINAL-URL:https://www.bullseyerunning.com
X-WR-CALDESC:Events for Bullseye Running
BEGIN:VTIMEZONE
TZID:UTC
BEGIN:STANDARD
TZOFFSETFROM:+0000
TZOFFSETTO:+0000
TZNAME:UTC
DTSTART:20180101T000000
END:STANDARD
END:VTIMEZONE
BEGIN:VEVENT
DTSTART;TZID=UTC:20180512T093000
DTEND;TZID=UTC:20180512T104500
DTSTAMP:20260422T194034
CREATED:20180423T174634Z
LAST-MODIFIED:20180423T174634Z
UID:1946-1526117400-1526121900@www.bullseyerunning.com
SUMMARY:Annual Young Life 5K Trail Run  & 1 Mile Fun Run
DESCRIPTION:SATURDAY\, MAY 12 at 9:30 AM​    Run around the beautiful Lake Elkhorn!!! \nHopewell Park     9375 Rustling Leaf\, Columbia\, MD 21045 \nRegistration & Light Breakfast beginning at 8:30am \nFee is $30 per person before May 5 or $35 per person after that date. \nEach person registered by 5/5 gets a YL race tee (or while supply lasts) \nForm a TEAM! Bring 3 NEW runners and get your registration refunded! \nAwards/Prizes for the following: \n\n5K Run\nTop 3 Male and Female Winners\n13 and under\, 14-16\, ​17-19\, 20-29\,\n30-39\, 40-49\, 50-59\, 60 and over\n\n1 Mile Fun Run\nTop 3 Male & Female Winners
URL:https://www.bullseyerunning.com/event/annual-young-life-5k-trail-run-1-mile-fun-run/
LOCATION:Hopewell Pool\, 9375 Rustling Leaf\, Columbia\, MD\, 21045\, United States
ORGANIZER;CN="Young%20Life":MAILTO:leeandsuedyer@msn.com
END:VEVENT
END:VCALENDAR