BEGIN:VCALENDAR
VERSION:2.0
PRODID:-//Bullseye Running - ECPv5.7.0//NONSGML v1.0//EN
CALSCALE:GREGORIAN
METHOD:PUBLISH
X-WR-CALNAME:Bullseye Running
X-ORIGINAL-URL:https://www.bullseyerunning.com
X-WR-CALDESC:Events for Bullseye Running
BEGIN:VTIMEZONE
TZID:UTC
BEGIN:STANDARD
TZOFFSETFROM:+0000
TZOFFSETTO:+0000
TZNAME:UTC
DTSTART:20220101T000000
END:STANDARD
END:VTIMEZONE
BEGIN:VEVENT
DTSTART;TZID=UTC:20220618T080000
DTEND;TZID=UTC:20220618T100000
DTSTAMP:20260421T201404
CREATED:20220516T225402Z
LAST-MODIFIED:20220624T025510Z
UID:2811-1655539200-1655546400@www.bullseyerunning.com
SUMMARY:Baltimore Summer Series 5k and 10k - special double side medal
DESCRIPTION:$60 gets you into both the Father’s Day 5k Farm Festival race in Cockeysville on Saturday June 18 and the Arbutus Firecracker 10k on Monday July 4 so you can be a part of the Baltimore Summer Series for 2022.  Get a special double sided medal representing both races and of course celebrate together at the races in Baltimore this Summer.  Email coachlang@hotmail.com with any questions. \nMedal
URL:https://www.bullseyerunning.com/event/baltimore-summer-series-5k-and-10k-special-double-side-medal/
ORGANIZER;CN="Bullseye%20Running":MAILTO:coachlang@bullseyerunning.com
END:VEVENT
END:VCALENDAR