BEGIN:VCALENDAR
VERSION:2.0
PRODID:-//Bullseye Running - ECPv5.7.0//NONSGML v1.0//EN
CALSCALE:GREGORIAN
METHOD:PUBLISH
X-WR-CALNAME:Bullseye Running
X-ORIGINAL-URL:https://www.bullseyerunning.com
X-WR-CALDESC:Events for Bullseye Running
BEGIN:VTIMEZONE
TZID:UTC
BEGIN:STANDARD
TZOFFSETFROM:+0000
TZOFFSETTO:+0000
TZNAME:UTC
DTSTART:20170101T000000
END:STANDARD
END:VTIMEZONE
BEGIN:VEVENT
DTSTART;TZID=UTC:20171014T083000
DTEND;TZID=UTC:20171014T100000
DTSTAMP:20260422T232905
CREATED:20170530T213657Z
LAST-MODIFIED:20170530T213657Z
UID:1711-1507969800-1507975200@www.bullseyerunning.com
SUMMARY:Calvert Memorial Hospital’s 8th annual 5K Run/Walk
DESCRIPTION:Calvert Memorial Hospital’s 8th annual 5k Run/Walk will be held on Saturday\, October 14\, 2017. Join the fun and run or walk around beautiful Solomons Island. Funds raised will benefit the Sheldon E. Goldberg Center for Breast Care. Chip timing provided. Young children and strollers welcomed. No pets\, bicycles or roller blades allowed. \nEVENT IS RAIN OR SHINE. \nEvery effort will be made to hold the event on its scheduled date rain or shine. In the event of lightning\, the race start may be delayed until conditions are safe. In the event of extreme weather or catastrophic conditions that pose a potential safety hazard to participants\, the event will be cancelled and no refunds will be given.\nRace Fee: Early Bird $40 (before October 7\, 2017); $50 (Day of race)\nEarly Bird registrants guaranteed long-sleeved shirt and can pick up packets prior to event. Dates to be determined. \nEvent details and schedule\nRace Time: 8:30 a.m. \nCheck-in begins at 7 a.m / World Gym Warm-up 8:00 a.m.
URL:https://www.bullseyerunning.com/event/calvert-memorial-hospitals-8th-annual-5k-runwalk/
LOCATION:Solomons Medical Center\, 14090 H.G. Trueman Road\, Solomons\, MD\, 20688\, United States
END:VEVENT
END:VCALENDAR