BEGIN:VCALENDAR
VERSION:2.0
PRODID:-//Bullseye Running - ECPv5.7.0//NONSGML v1.0//EN
CALSCALE:GREGORIAN
METHOD:PUBLISH
X-WR-CALNAME:Bullseye Running
X-ORIGINAL-URL:https://www.bullseyerunning.com
X-WR-CALDESC:Events for Bullseye Running
BEGIN:VTIMEZONE
TZID:UTC
BEGIN:STANDARD
TZOFFSETFROM:+0000
TZOFFSETTO:+0000
TZNAME:UTC
DTSTART:20170101T000000
END:STANDARD
END:VTIMEZONE
BEGIN:VEVENT
DTSTART;TZID=UTC:20171112T090000
DTEND;TZID=UTC:20171112T110000
DTSTAMP:20260422T232129
CREATED:20171004T035753Z
LAST-MODIFIED:20171004T040044Z
UID:1822-1510477200-1510484400@www.bullseyerunning.com
SUMMARY:Centennial Boosters 5k Turkey Trot
DESCRIPTION:Please join the Centennial High School Boosters Sunday\, November 12th\, at 9:00am for our annual Turkey Trot to kick off the Thanksgiving season. All pre-registered 5K participants will receive a T-shirt. \n​The 5K trail run/walk utilizes Centennial High School’s premier Cross Country Course featuring gently rolling countryside with just enough surprises to keep you on your toes. \nIn addition to refreshments and snacks for everyone\, door prizes will also be given away! \n​All proceeds from the race will benefit the CHS Boosters which financially supports all extracurricular activities\, including athletics\, clubs\, and organizations. \nCentennial High School is located at 4300 Centennial Lane\, Ellicott City\, MD 21042. Ample parking is available. \nRACE FEES \n        Participant                  Pre-Registration       After November 10th \n        Open/Master 5K           $25.00                      $30.00 \n        Student 5K                     $15.00                      $20.00 \n        Kids 1K                           $10.00                      $10.00 \n          (Please be aware that no refunds will be provided) \nAWARDS \nMedals and prizes for… \n\n\nOverall male/female 5k finishers \n\n\nYoungest and oldest male/female 5K finishers \n\n\nTop 3 male/female 5K finishers by age category \n\n\nStudent (U18)​ \n\n\nOpen (19-39) \n\n\nMaster (40+) \n\n\n\n\nAll Kids 1K participants will receive a medal​ \n\n\nSCHEDULE \n7:45 – Registration/Check-In at stadium begins \n8:45 – Runners report to starting line \n9:00 – 5k begins \n           (Kids 1K will begin immediately after the start of the 5K) \n10:00 – Awards Ceremony \nTIMING \nBullseye Running will provide Chronotrack Timing. \nIf you have any questions or concerns about the Turkey Trot\, please contact Jackie at 5K@centennialboostersonline.com \n​Race packets can be picked up either: \nSaturday\, November 11th from 10am – 1pm at: \n        Feet First Sports \n        10451 Twin Rivers Road \n        Columbia\, MD 21044 \nOr at Centennial High School on Sunday\, the 12th from 7:45 – 8:45 at the registration table on the track.
URL:https://www.bullseyerunning.com/event/centennial-boosters-5k-turkey-trot-2/
LOCATION:Centennial HS\, 4300 Centennial Ln\, Ellicott City\, MD\, 21042\, United States
ORGANIZER;CN="Centennial%20Boosters":MAILTO:5K@centennialboostersonline.com
END:VEVENT
END:VCALENDAR