BEGIN:VCALENDAR
VERSION:2.0
PRODID:-//Bullseye Running - ECPv5.7.0//NONSGML v1.0//EN
CALSCALE:GREGORIAN
METHOD:PUBLISH
X-WR-CALNAME:Bullseye Running
X-ORIGINAL-URL:https://www.bullseyerunning.com
X-WR-CALDESC:Events for Bullseye Running
BEGIN:VTIMEZONE
TZID:UTC
BEGIN:STANDARD
TZOFFSETFROM:+0000
TZOFFSETTO:+0000
TZNAME:UTC
DTSTART:20250101T000000
END:STANDARD
END:VTIMEZONE
BEGIN:VEVENT
DTSTART;TZID=UTC:20250627T190000
DTEND;TZID=UTC:20250627T200000
DTSTAMP:20260421T084217
CREATED:20250605T173910Z
LAST-MODIFIED:20250605T173910Z
UID:3569-1751050800-1751054400@www.bullseyerunning.com
SUMMARY:Friday Night 5k Cross Country Series
DESCRIPTION:Please join us at any or all of the 5k XC races in this special summer series!  All ages welcome!  Invite your friends! \nStart times are 7pm. Dates and locations are: \n– 6/27 at Centennial High behind the school in the stadium\, \n– 7/18 at Reservoir High\, actually at Lime Kiln Middle parking lot\, \n– 7/25 at Howard High beside the tennis courts and\, \n– 8/15 at Marriotts Ridge High by the stadium entrance. \n*** Finish 3 of the 4 races and receive a special Strider/Bullseye tech shirt. \nResults will be posted on the Striders and Bullseye web sites (www.striders.net)(www.bullseyerunning.com). \nEntry fee is $5 for each race and only race day entry available starting at 6pm. \nContact Phil Lang (coachlang@hotmail.com) with any questions.
URL:https://www.bullseyerunning.com/event/friday-night-5k-cross-country-series/
LOCATION:Centennial HS\, 4300 Centennial Ln\, Ellicott City\, MD\, 21042\, United States
END:VEVENT
END:VCALENDAR