BEGIN:VCALENDAR
VERSION:2.0
PRODID:-//Bullseye Running - ECPv5.7.0//NONSGML v1.0//EN
CALSCALE:GREGORIAN
METHOD:PUBLISH
X-WR-CALNAME:Bullseye Running
X-ORIGINAL-URL:https://www.bullseyerunning.com
X-WR-CALDESC:Events for Bullseye Running
BEGIN:VTIMEZONE
TZID:UTC
BEGIN:STANDARD
TZOFFSETFROM:+0000
TZOFFSETTO:+0000
TZNAME:UTC
DTSTART:20210101T000000
END:STANDARD
END:VTIMEZONE
BEGIN:VEVENT
DTSTART;TZID=UTC:20210709T183000
DTEND;TZID=UTC:20210709T193000
DTSTAMP:20260422T035918
CREATED:20210602T022150Z
LAST-MODIFIED:20210710T025157Z
UID:2550-1625855400-1625859000@www.bullseyerunning.com
SUMMARY:Friday Night 5k XC Summer Series event #2
DESCRIPTION:The Howard County Striders and Bullseye Running are teaming up again this Summer for this series! \nRun 3 of the 4 2021 Friday Night 5k XC Series events to earn your shirt. \nJust $5 per event.  Sign up at 6pm when you arrive.  Race starts at 6:30pm sharp. \n7/9/21 – Howard High School (start is to the right of the school and to the right of the tennis courts). \n7/23/21 – River Hill High School (start is behind the school past the tennis courts). \n8/13/21 – Reservoir High School (start is actually near parking lot on Lime Kiln Middle School which is next to Reservoir). \nEmail coachlang@hotmail.com with any questions.
URL:https://www.bullseyerunning.com/event/friday-night-5k-xc-summer-series-event-2/
LOCATION:Howard HS\, 8700 Old Annapolis Rd\, Ellicott City\, MD\, 21043\, United States
ORGANIZER;CN="Bullseye%20Running":MAILTO:coachlang@bullseyerunning.com
END:VEVENT
END:VCALENDAR