BEGIN:VCALENDAR
VERSION:2.0
PRODID:-//Bullseye Running - ECPv5.7.0//NONSGML v1.0//EN
CALSCALE:GREGORIAN
METHOD:PUBLISH
X-WR-CALNAME:Bullseye Running
X-ORIGINAL-URL:https://www.bullseyerunning.com
X-WR-CALDESC:Events for Bullseye Running
BEGIN:VTIMEZONE
TZID:UTC
BEGIN:STANDARD
TZOFFSETFROM:+0000
TZOFFSETTO:+0000
TZNAME:UTC
DTSTART:20210101T000000
END:STANDARD
END:VTIMEZONE
BEGIN:VEVENT
DTSTART;TZID=UTC:20210723T183000
DTEND;TZID=UTC:20210723T193000
DTSTAMP:20260421T234059
CREATED:20210602T022333Z
LAST-MODIFIED:20210724T020117Z
UID:2551-1627065000-1627068600@www.bullseyerunning.com
SUMMARY:Friday Night 5k XC Summer Series event #3
DESCRIPTION:The Howard County Striders and Bullseye Running are teaming up again this Summer for this series! \nRun 3 of the 4 2021 Friday Night 5k XC Series events to earn your shirt. \nJust $5 per event.  Sign up at 6pm when you arrive.  Race starts at 6:30pm sharp. \n7/23/21 – River Hill High School (start is behind the school past the tennis courts). \n8/13/21 – Reservoir High School (start is actually near parking lot on Lime Kiln Middle School which is next to Reservoir). \nEmail coachlang@hotmail.com with any questions.
URL:https://www.bullseyerunning.com/event/friday-night-5k-xc-summer-series-event-3/
LOCATION:River Hill HS\, 12101 Clarksville Pike\, Clarksville\, MD\, 21029\, United States
ORGANIZER;CN="Bullseye%20Running":MAILTO:coachlang@bullseyerunning.com
END:VEVENT
END:VCALENDAR