BEGIN:VCALENDAR
VERSION:2.0
PRODID:-//Bullseye Running - ECPv5.7.0//NONSGML v1.0//EN
CALSCALE:GREGORIAN
METHOD:PUBLISH
X-WR-CALNAME:Bullseye Running
X-ORIGINAL-URL:https://www.bullseyerunning.com
X-WR-CALDESC:Events for Bullseye Running
BEGIN:VTIMEZONE
TZID:UTC
BEGIN:STANDARD
TZOFFSETFROM:+0000
TZOFFSETTO:+0000
TZNAME:UTC
DTSTART:20220101T000000
END:STANDARD
END:VTIMEZONE
BEGIN:VEVENT
DTSTART;TZID=UTC:20220715T184500
DTEND;TZID=UTC:20220715T193000
DTSTAMP:20260421T193711
CREATED:20220624T025344Z
LAST-MODIFIED:20220716T014421Z
UID:2844-1657910700-1657913400@www.bullseyerunning.com
SUMMARY:Friday Night Summer XC Series Race #1
DESCRIPTION:Run the Howard High XC course!  Thanks Coach Dickerson for supporting the event by setting the course up and being the host.  Race day sign up only for $5.  Registration starts at 6pm in the field behind the tennis courts and the race starts at 6:45pm.
URL:https://www.bullseyerunning.com/event/friday-night-summer-xc-series-race-1/
LOCATION:Howard HS\, 8700 Old Annapolis Rd\, Ellicott City\, MD\, 21043\, United States
END:VEVENT
END:VCALENDAR