BEGIN:VCALENDAR
VERSION:2.0
PRODID:-//Bullseye Running - ECPv5.7.0//NONSGML v1.0//EN
CALSCALE:GREGORIAN
METHOD:PUBLISH
X-WR-CALNAME:Bullseye Running
X-ORIGINAL-URL:https://www.bullseyerunning.com
X-WR-CALDESC:Events for Bullseye Running
BEGIN:VTIMEZONE
TZID:UTC
BEGIN:STANDARD
TZOFFSETFROM:+0000
TZOFFSETTO:+0000
TZNAME:UTC
DTSTART:20210101T000000
END:STANDARD
END:VTIMEZONE
BEGIN:VEVENT
DTSTART;TZID=UTC:20211010T080000
DTEND;TZID=UTC:20211010T170000
DTSTAMP:20260421T232148
CREATED:20210214T233128Z
LAST-MODIFIED:20211010T141803Z
UID:2510-1633852800-1633885200@www.bullseyerunning.com
SUMMARY:HCC Corporate Challenge
DESCRIPTION:Contact Anne Johnson (AJohnson@howardcc.edu) for more details!
URL:https://www.bullseyerunning.com/event/hcc-corporate-challenge-3/
LOCATION:Howard Community College\, 10901 Little Patuxent Parkway\, Columbia\, MD\, 21044\, United States
END:VEVENT
END:VCALENDAR