BEGIN:VCALENDAR
VERSION:2.0
PRODID:-//Bullseye Running - ECPv5.7.0//NONSGML v1.0//EN
CALSCALE:GREGORIAN
METHOD:PUBLISH
X-WR-CALNAME:Bullseye Running
X-ORIGINAL-URL:https://www.bullseyerunning.com
X-WR-CALDESC:Events for Bullseye Running
BEGIN:VTIMEZONE
TZID:UTC
BEGIN:STANDARD
TZOFFSETFROM:+0000
TZOFFSETTO:+0000
TZNAME:UTC
DTSTART:20210101T000000
END:STANDARD
END:VTIMEZONE
BEGIN:VEVENT
DTSTART;TZID=UTC:20211107T100000
DTEND;TZID=UTC:20211107T120000
DTSTAMP:20260421T215630
CREATED:20210901T172742Z
LAST-MODIFIED:20211107T142651Z
UID:2637-1636279200-1636286400@www.bullseyerunning.com
SUMMARY:Howard County Striders Run Through the Grapevine 8k
DESCRIPTION:The Run Through the Grapevine is an annual cross country/trail race at the Linganore Winecellars in Mt. Airy\, MD. The scenic and challenging cross country course loops through the grounds of the winery. For the 2021 race\, we will be running one race at the 8K distance. They will not have a team or relay option. \nTechnical t-shirts! \nAwards: \n\nOverall Male and Female\nMaster Male and Female\nTop 3 in Age Groups (Male and Female)\n\n1-20\n21-29\n30-39\n40-49\n50-59\n60-69\n70+
URL:https://www.bullseyerunning.com/event/howard-county-striders-run-through-the-grapevine-8k/
LOCATION:Linganore Winecellars\, 13601 Glissans Mill Road\, Mt. Airy\, MD\, 21771\, United States
END:VEVENT
END:VCALENDAR