BEGIN:VCALENDAR
VERSION:2.0
PRODID:-//Bullseye Running - ECPv5.7.0//NONSGML v1.0//EN
CALSCALE:GREGORIAN
METHOD:PUBLISH
X-WR-CALNAME:Bullseye Running
X-ORIGINAL-URL:https://www.bullseyerunning.com
X-WR-CALDESC:Events for Bullseye Running
BEGIN:VTIMEZONE
TZID:UTC
BEGIN:STANDARD
TZOFFSETFROM:+0000
TZOFFSETTO:+0000
TZNAME:UTC
DTSTART:20220101T000000
END:STANDARD
END:VTIMEZONE
BEGIN:VEVENT
DTSTART;TZID=UTC:20220326T090000
DTEND;TZID=UTC:20220327T090000
DTSTAMP:20260421T211340
CREATED:20211103T045843Z
LAST-MODIFIED:20220326T152236Z
UID:2675-1648285200-1648371600@www.bullseyerunning.com
SUMMARY:Kenya Connect 5K
DESCRIPTION:Registration open December 20\, 2021 \nJoin us for the  2022 KC5K: Running/Walking for Education!  This year the race will be LIVE and Virtual! \nThe LIVE Race will start from St. John’s Episcopal Church and run through the beautiful Dunloggin Neighborhood.  Participants can run or walk and strollers are welcome!  The Top three runners/walkers in all age categories will win a hand-carved medallion from Wamunyu\, Kenya and the top male/female overall will win a hand carved medallion and runner gift cards ($100 for first place and $50 for 2nd and 3rd place). \nVirtual Runners will be invited to participate anytime between  9:00 am on Saturday\, March 26 and 1:00pm on Sunday\, March 27.  Prizes will be awarded for the top three places overall male/female and the top winner male/female in the 5-11\, 11-17\, 18-30\, 31-50\, 51-70\, 70+ \nWe also will have prizes for the largest team (perhaps your family\, college group\, HS group\, workplace) and the top overall fundraiser (it could be a team or individual).  Any team raising $1\,000 will get to choose the spine of a book to be painted on a step of the new LRC ANNEX\, opening in February.  Each member of the largest team will also be awarded with a book placed in the new library. Fundraising teams are a special way to support the 18\,000 students and 500 teachers to an empowered education. \nRunners can choose between two premiums:  a white Kenya Connect runners cap or a black t-shirt.  Participants must register by March 6 in order to be guaranteed a premium. \nRegistration cost is  $35 until March 6.  The price will increase on March 7 to $45.   Participants 18 and under race cost is $25.
URL:https://www.bullseyerunning.com/event/kenya-connect-5k-2/
LOCATION:St. John’s Episcopal Church\, 9120 Frederick Road\, Ellicott City\, MD\, 21042\, United States
ORGANIZER;CN="Kenya%20Connect":MAILTO:sharon@kenyaconnect.org
END:VEVENT
END:VCALENDAR