BEGIN:VCALENDAR
VERSION:2.0
PRODID:-//Bullseye Running - ECPv5.7.0//NONSGML v1.0//EN
CALSCALE:GREGORIAN
METHOD:PUBLISH
X-WR-CALNAME:Bullseye Running
X-ORIGINAL-URL:https://www.bullseyerunning.com
X-WR-CALDESC:Events for Bullseye Running
BEGIN:VTIMEZONE
TZID:UTC
BEGIN:STANDARD
TZOFFSETFROM:+0000
TZOFFSETTO:+0000
TZNAME:UTC
DTSTART:20170101T000000
END:STANDARD
END:VTIMEZONE
BEGIN:VEVENT
DTSTART;TZID=UTC:20171021T080000
DTEND;TZID=UTC:20171021T100000
DTSTAMP:20260422T230710
CREATED:20171003T150210Z
LAST-MODIFIED:20171003T150609Z
UID:1818-1508572800-1508580000@www.bullseyerunning.com
SUMMARY:North Beach 5k
DESCRIPTION:Support the Northern High School (Boys and Girls Cross Country and Boys Soccer Team)\nRace starts at 8am on the North Beach Boardwalk.\nAwards will be for the following: Overall 1\, 2\, 3\, then 1\, 2 for the following age groups: 12 and under\, 13-20\, 21-35\, 36-50 and 50+.\nShirts: for all preregistered runners.
URL:https://www.bullseyerunning.com/event/north-beach-5k-2/
LOCATION:North Beach Boardwalk\, 9023 Bay Ave\, North Beach\, MD\, 20714\, United States
ORGANIZER;CN="Northern%20High%20School":MAILTO:joshddawson@gmail.com
END:VEVENT
END:VCALENDAR