BEGIN:VCALENDAR
VERSION:2.0
PRODID:-//Bullseye Running - ECPv5.7.0//NONSGML v1.0//EN
CALSCALE:GREGORIAN
METHOD:PUBLISH
X-WR-CALNAME:Bullseye Running
X-ORIGINAL-URL:https://www.bullseyerunning.com
X-WR-CALDESC:Events for Bullseye Running
BEGIN:VTIMEZONE
TZID:UTC
BEGIN:STANDARD
TZOFFSETFROM:+0000
TZOFFSETTO:+0000
TZNAME:UTC
DTSTART:20170101T000000
END:STANDARD
END:VTIMEZONE
BEGIN:VEVENT
DTSTART;TZID=UTC:20171111T120000
DTEND;TZID=UTC:20171111T160000
DTSTAMP:20260422T230206
CREATED:20170914T042501Z
LAST-MODIFIED:20170914T042501Z
UID:1805-1510401600-1510416000@www.bullseyerunning.com
SUMMARY:Paul's Place 2017 Huff & Puff 5k and 1 Mile Run/Walk
DESCRIPTION:Please join the Rising Leaders in supporting Paul’s Place on November 11th for our 2017 Huff & Puff 5K and 1 Mile Run/Walk! Paul’s Place is a catalyst and leader for change\, improving the quality of life in the Southwest Baltimore communities. Paul’s Place provides programs\, services\, and support that strengthen individuals and families\, fostering hope\, personal dignity and growth. \nEvent details and schedule\nPlease join us in supporting Paul’s Place on November 11 for the 3rd Annual Huff & Puff 5K and newly added 1 Mile Run/Walk! \nWhile the big\, bad wolf may blow houses down\, Paul’s Place has been working in Southwest Baltimore for 35 years to help rebuild individuals\, families and our communities. Paul’s Place provides programs\, services and support that strengthen individuals and families\, fostering hope\, personal dignity and growth. Your participation helps raise funds to support over 3\,500 individuals and families that access Paul’s Place services each year. \nEvent features: \n\n         Long-sleeved gender specific tech shirts for all pre-registered 5k participants and a                  t-shirt for all 1 mile run/walk participants\n         Professional Chip Timing (for 5k participants)\n         Awards ceremony following race completion (estimated to be at 1:45).\n         Pig and Wolf costumes are encouraged!\n         All runners will receive a ticket valid for one beverage at the after party. (Must be                    21 to be valid for alcoholic beverages)\n         Post-race celebration including food\, beer\, wine\, music\, activities and heated tent.\n         Secured FREE parking available to all race participants adjacent to Carroll Park Golf                  Course.\n\nNOTE: After November 3\, shirt sizes are no longer guaranteed. Shirts will be provided based on availability on race day to those not pre-registered. \nThe 5k start at 12PM\, and the 1 Mile Run/Walk will start at 1PM. Check in will open at 10AM and remain open until 11:45 for the 5k and 12:45 for the 1 Mile Run/Walk. We will be running throughout beautiful Carroll Park Golf Course just blocks away from Paul’s Place. \nInvite your friends and family to cheer you on for the 5K or 1 Mile Run/Walk and to enjoy the after celebration where we will have food\, beer\, and wine for purchase with music and activities in a heated tent. \nThe fun will last until 4PM. \nAll proceeds benefit Paul’s Place\, Inc.
URL:https://www.bullseyerunning.com/event/pauls-place-2017-huff-puff-5k-and-1-mile-runwalk/
LOCATION:Carroll Park Golf Course\, 2100 Washington Blvd\, Baltimore\, MD\, 21230\, United States
END:VEVENT
END:VCALENDAR