BEGIN:VCALENDAR
VERSION:2.0
PRODID:-//Bullseye Running - ECPv5.7.0//NONSGML v1.0//EN
CALSCALE:GREGORIAN
METHOD:PUBLISH
X-WR-CALNAME:Bullseye Running
X-ORIGINAL-URL:https://www.bullseyerunning.com
X-WR-CALDESC:Events for Bullseye Running
BEGIN:VTIMEZONE
TZID:UTC
BEGIN:STANDARD
TZOFFSETFROM:+0000
TZOFFSETTO:+0000
TZNAME:UTC
DTSTART:20180101T000000
END:STANDARD
END:VTIMEZONE
BEGIN:VEVENT
DTSTART;TZID=UTC:20180505T090000
DTEND;TZID=UTC:20180505T103000
DTSTAMP:20260422T200204
CREATED:20180313T032252Z
LAST-MODIFIED:20180319T175614Z
UID:1909-1525510800-1525516200@www.bullseyerunning.com
SUMMARY:Phelps Luck 5k
DESCRIPTION:This is our 3rd annual Phelps Luck 5K and 1-mile Fun Run sponsored by the Phelps Luck PTA.  This year our 5K starts at 9:00 am and will be run on Long Reach High School’s cross-country course.  The 1-mile run/walk will start immediately following the 5K start and the course will be on the Long Reach High School track. Sign up today and come out to support your Phelps Luck PTA and our Phelps Luck P.E. Department! \nEvent details and schedule \n\nRace Day is Saturday\, May 5\, 2018 starting and finishing at Long Reach High School\, 6101 Old Dobbin Ln. Columbia\, MD 21045.\nAll children under the age of 18 MUST register AND be accompanied by an adult.\nPacket pick-up will be offered on two occasions:\n\nFriday\, May 4\, 2018 from 5:00pm until 6:30pm in front of Phelps Luck Elementary School -or-\nRace day Saturday\, May 5\, 2018 from 7:30am until 8:30am at Long Reach High School\n\n\nPlease arrive early\, as parking may be limited due to other events at the high school.  Carpooling\, walking\, and biking to the event is recommended.\nWhat to remember: hydrate\, wear sunscreen\, dress appropriately including running shoes\, have fun!\nWhat NOT to bring: skateboards\, roller skates\, roller blades\, animals\, and headphones.\nBaby joggers/strollers are allowed for the 1-mile walk but NOT for the 5K run.\nLight refreshments will be available to participants at the finish line.\nOne t-shirt is included in the registration fee. Additional t-shirts may be purchased for $7.00 each.\n\n\n\n\nPrizes\n\nAge \n\n\nAge \n\n\nAge \n\n\nAge \n\n\nAge \n\n\n1st Place Overall \n\n\n\nFemale\n\n10+Under \n\n\n11-17 \n\n\n18-29 \n\n\n30-44 \n\n\n45+Over \n\n\n\nMale\n\n10+Under \n\n\n11-17 \n\n\n18-29 \n\n\n30-44 \n\n\n45+Over \n\n\n\n\n 
URL:https://www.bullseyerunning.com/event/phelps-luck-5k/
LOCATION:Long Reach High School stadium\, 6101 Old Dobbin Rd\, Columbia\, MD\, 21045\, United States
ORGANIZER;CN="Phelps%20Luck%20PTA":MAILTO:timothy_deppen@hcpss.org
END:VEVENT
END:VCALENDAR