BEGIN:VCALENDAR
VERSION:2.0
PRODID:-//Bullseye Running - ECPv5.7.0//NONSGML v1.0//EN
CALSCALE:GREGORIAN
METHOD:PUBLISH
X-WR-CALNAME:Bullseye Running
X-ORIGINAL-URL:https://www.bullseyerunning.com
X-WR-CALDESC:Events for Bullseye Running
BEGIN:VTIMEZONE
TZID:UTC
BEGIN:STANDARD
TZOFFSETFROM:+0000
TZOFFSETTO:+0000
TZNAME:UTC
DTSTART:20220101T000000
END:STANDARD
END:VTIMEZONE
BEGIN:VEVENT
DTSTART;TZID=UTC:20220513T180000
DTEND;TZID=UTC:20220513T200000
DTSTAMP:20260421T214526
CREATED:20211103T050146Z
LAST-MODIFIED:20220413T172337Z
UID:2677-1652464800-1652472000@www.bullseyerunning.com
SUMMARY:Resurrection St. Paul 5K and Fun Run
DESCRIPTION:5k run and 1 mile walk/run\n2 food trucks and the 21+ tent again!!\nFun on the evening of Friday the 13th\n\nFun for all supporting the Resurrection-St. Paul School which is a fully accredited\, Catholic interparish school\, grades Pre-K (3 & 4 year old) through grade eight\, serving the parish communities of the Church of the Resurrection and St. Paul’s Church in Ellicott City\, Maryland. Resurrection-St. Paul School is dedicated to excellence in education in light of the teachings of Jesus Christ through the Catholic Church. \n1st /2nd /3rd for the below categories\n\n\n\n\n\n\n\nOVERALL FEMALE\n\n\nOVERALL MALE\n\n\nRSPS STAFF\n\n\nBOYS 8 & UNDER\n\n\nGIRLS 8 & UNDER\n\n\n9-11 YEARS BOYS\n\n\n9-11 YEARS GIRLS\n\n\n12-15 YEARS BOYS\n\n\n12-15 YEARS GIRLS\n\n\n16-18 YEARS MEN\n\n\n16-18 YEARS WOMEN
URL:https://www.bullseyerunning.com/event/resurrection-st-paul-5k-and-fun-run-3/
LOCATION:Resurrection St. Paul School\, 3155 Paulskirk Drive\, Ellicott City\, MD\, 21042\, United States
END:VEVENT
END:VCALENDAR