BEGIN:VCALENDAR
VERSION:2.0
PRODID:-//Bullseye Running - ECPv5.7.0//NONSGML v1.0//EN
CALSCALE:GREGORIAN
METHOD:PUBLISH
X-WR-CALNAME:Bullseye Running
X-ORIGINAL-URL:https://www.bullseyerunning.com
X-WR-CALDESC:Events for Bullseye Running
BEGIN:VTIMEZONE
TZID:UTC
BEGIN:STANDARD
TZOFFSETFROM:+0000
TZOFFSETTO:+0000
TZNAME:UTC
DTSTART:20220101T000000
END:STANDARD
END:VTIMEZONE
BEGIN:VEVENT
DTSTART;TZID=UTC:20220227T080000
DTEND;TZID=UTC:20220227T100000
DTSTAMP:20260421T211308
CREATED:20220127T212427Z
LAST-MODIFIED:20220127T212427Z
UID:2726-1645948800-1645956000@www.bullseyerunning.com
SUMMARY:RRCA Maryland clubs 10 mile challenge
DESCRIPTION:If you want to run for Bullseye at the challenge race on 2/27/22\, join Bullseye and we will email you a free link to run the race. Deadline is 2/13/22!!! \nClub Membership
URL:https://www.bullseyerunning.com/event/rrca-maryland-clubs-10-mile-challenge/
LOCATION:Howard Community College – Physical Education Building\, 10600 Hickory Ridge Road\, Columbia\, MD\, United States
END:VEVENT
END:VCALENDAR