BEGIN:VCALENDAR
VERSION:2.0
PRODID:-//Bullseye Running - ECPv5.7.0//NONSGML v1.0//EN
CALSCALE:GREGORIAN
METHOD:PUBLISH
X-WR-CALNAME:Bullseye Running
X-ORIGINAL-URL:https://www.bullseyerunning.com
X-WR-CALDESC:Events for Bullseye Running
BEGIN:VTIMEZONE
TZID:UTC
BEGIN:STANDARD
TZOFFSETFROM:+0000
TZOFFSETTO:+0000
TZNAME:UTC
DTSTART:20210101T000000
END:STANDARD
END:VTIMEZONE
BEGIN:VEVENT
DTSTART;TZID=UTC:20211224T093000
DTEND;TZID=UTC:20211224T113000
DTSTAMP:20260421T212020
CREATED:20211115T192616Z
LAST-MODIFIED:20211223T050637Z
UID:2683-1640338200-1640345400@www.bullseyerunning.com
SUMMARY:Rudolph Run
DESCRIPTION:NO SHIRTS LEFT :(. \nOnly cash or check will be accepted at packet pick up/late registration at Feet First on Thursday 12/23 from 4-6pm ($30 made payable to Bullseye Running or cash). Race day packet pick up and late registration will begin at 8:30am by the baseball backstop behind the school (Oakland Mills High). \n3k loop (half on grass and half on bike path/sidewalk) will be done twice by those running the 6k open. One on each team in the 6k relay will run one loop then hand off to their teammate so they can run the second loop for the team. Make sure your teammate has signed up and used the same team name. \n36 pies from Sugar Bakers Cakes are the awards again this year! \n6k – 1st overall\, 1st master and 1st in these age groups for each gender: 1-15\, 16-25\, 26-39\, 40-49\, 50-59\, 60-69\, 70 and over. \n2 Person Relay – 1st male team\, 1st women team and first coed team in these combined age groups: 51 and under\, 52-67 and 68 and over.
URL:https://www.bullseyerunning.com/event/rudolph-run/
LOCATION:Oakland Mills HS\, 9410 Kilimanjaro Rd\, Columbia\, MD\, 21045\, United States
ORGANIZER;CN="Bullseye%20Running":MAILTO:coachlang@bullseyerunning.com
END:VEVENT
END:VCALENDAR