BEGIN:VCALENDAR
VERSION:2.0
PRODID:-//Bullseye Running - ECPv5.7.0//NONSGML v1.0//EN
CALSCALE:GREGORIAN
METHOD:PUBLISH
X-WR-CALNAME:Bullseye Running
X-ORIGINAL-URL:https://www.bullseyerunning.com
X-WR-CALDESC:Events for Bullseye Running
BEGIN:VTIMEZONE
TZID:UTC
BEGIN:STANDARD
TZOFFSETFROM:+0000
TZOFFSETTO:+0000
TZNAME:UTC
DTSTART:20210101T000000
END:STANDARD
END:VTIMEZONE
BEGIN:VEVENT
DTSTART;TZID=UTC:20211017T080000
DTEND;TZID=UTC:20211017T100000
DTSTAMP:20260421T235301
CREATED:20210214T233424Z
LAST-MODIFIED:20210729T005435Z
UID:2511-1634457600-1634464800@www.bullseyerunning.com
SUMMARY:Savage 7k
DESCRIPTION:Built of stone from the Little Patuxent River bordering Savage\, Carroll Baldwin Hall is a Maryland Historic Trust site which still serves as a vibrant community center. This year’s event will kick off our centennial celebration\, and funds raised will be used to purchase a curtain to return the Hall’s stage to its original glory. Please come for an autumn run or walk through our lovely community\, and enjoy music and homemade breakfast treats afterward! \nTime & Location:  Sunday October 17\, 2021\, 8:00 am at Baldwin Hall\, 9035 Baltimore St\, Savage\, Maryland 20763 \nCourse:  7K Run begins at Baldwin Hall and runs past Savage Mill\, then through Savage Park and surrounding neighborhoods before returning to the Hall. 1-Mile Walk is a guided tour through historic Savage. \nRegistration Fee:  Register for $31 online or for $35 at one of the packet pick-ups. \nPacket Pickup:  Feet First Sports at Wilde Lake Village Center on Oct. 16 from 1:00 – 3:00 p.m. Also\, packets may be picked up from 7:00-7:45 a.m. at Baldwin Hall on day of event. \n7K Awards:  For top 2 runners in each of the following categories (M&F): Overall\, 19 and under\, 20-29\, 30-39\, 40-49\, 50-59 and 60-69\, and 70 and above. Long-sleeve T-shirts for all runners and walkers who register by October 3; subject to availability for registration after October 3. \nFor more information: Go to www.CarrollBaldwinHall.org or email Savage7@CarrollBaldwinHall.org.
URL:https://www.bullseyerunning.com/event/savage-7k-2/
LOCATION:Carroll Baldwin Hall\, 9035 Baltimore St\, Savage\, MD\, 20763\, United States
END:VEVENT
END:VCALENDAR