BEGIN:VCALENDAR
VERSION:2.0
PRODID:-//Bullseye Running - ECPv5.7.0//NONSGML v1.0//EN
CALSCALE:GREGORIAN
METHOD:PUBLISH
X-WR-CALNAME:Bullseye Running
X-ORIGINAL-URL:https://www.bullseyerunning.com
X-WR-CALDESC:Events for Bullseye Running
BEGIN:VTIMEZONE
TZID:UTC
BEGIN:STANDARD
TZOFFSETFROM:+0000
TZOFFSETTO:+0000
TZNAME:UTC
DTSTART:20210101T000000
END:STANDARD
END:VTIMEZONE
BEGIN:VEVENT
DTSTART;TZID=UTC:20210702T153000
DTEND;TZID=UTC:20210702T190000
DTSTAMP:20260422T090324
CREATED:20210625T164517Z
LAST-MODIFIED:20210625T165739Z
UID:2589-1625239800-1625252400@www.bullseyerunning.com
SUMMARY:Summer Series 1 track and field meet
DESCRIPTION:All ages\, all abilities welcome to compete in this open track and field meet.  A second meet will be held on July 11 as well. \nRunning events order are 400\, 100\, 800\, 200\, 1500. \nField events will be high jump\, shot put and long jump. \n 
URL:https://www.bullseyerunning.com/event/summer-series-1-track-and-field-meet/
LOCATION:River Hill HS\, 12101 Clarksville Pike\, Clarksville\, MD\, 21029\, United States
ORGANIZER;CN="Bullseye%20Running":MAILTO:coachlang@bullseyerunning.com
END:VEVENT
END:VCALENDAR