BEGIN:VCALENDAR
VERSION:2.0
PRODID:-//Bullseye Running - ECPv5.7.0//NONSGML v1.0//EN
CALSCALE:GREGORIAN
METHOD:PUBLISH
X-WR-CALNAME:Bullseye Running
X-ORIGINAL-URL:https://www.bullseyerunning.com
X-WR-CALDESC:Events for Bullseye Running
BEGIN:VTIMEZONE
TZID:UTC
BEGIN:STANDARD
TZOFFSETFROM:+0000
TZOFFSETTO:+0000
TZNAME:UTC
DTSTART:20210101T000000
END:STANDARD
END:VTIMEZONE
BEGIN:VEVENT
DTSTART;TZID=UTC:20210711T103000
DTEND;TZID=UTC:20210711T150000
DTSTAMP:20260422T015747
CREATED:20210705T174322Z
LAST-MODIFIED:20210707T172919Z
UID:2593-1625999400-1626015600@www.bullseyerunning.com
SUMMARY:Summer Series track and field meet #2
DESCRIPTION:All ages\, all abilities welcome to compete in this open track and field meet. \nRunning events order: 5000\, 300 hurdles\, 200\, 80 hurdles\, 100 hurdles\, 110 hurdles\, 800\, 100\, 400\, 1500. \nField events will be high jump\, shot put\, long jump and triple jump.
URL:https://www.bullseyerunning.com/event/summer-series-track-and-field-meet-2/
LOCATION:Howard HS\, 8700 Old Annapolis Rd\, Ellicott City\, MD\, 21043\, United States
ORGANIZER;CN="Bullseye%20Running":MAILTO:coachlang@bullseyerunning.com
END:VEVENT
END:VCALENDAR