BEGIN:VCALENDAR
VERSION:2.0
PRODID:-//Bullseye Running - ECPv5.7.0//NONSGML v1.0//EN
CALSCALE:GREGORIAN
METHOD:PUBLISH
X-WR-CALNAME:Bullseye Running
X-ORIGINAL-URL:https://www.bullseyerunning.com
X-WR-CALDESC:Events for Bullseye Running
BEGIN:VTIMEZONE
TZID:UTC
BEGIN:STANDARD
TZOFFSETFROM:+0000
TZOFFSETTO:+0000
TZNAME:UTC
DTSTART:20210101T000000
END:STANDARD
END:VTIMEZONE
BEGIN:VEVENT
DTSTART;TZID=UTC:20211002T080000
DTEND;TZID=UTC:20211002T110000
DTSTAMP:20260422T003653
CREATED:20210623T210229Z
LAST-MODIFIED:20210819T182944Z
UID:2583-1633161600-1633172400@www.bullseyerunning.com
SUMMARY:The 2021 Zaching Running Festival
DESCRIPTION:THE ZACHING RUNNING FESTIVAL IS MOVING TO DOWNTOWN COLUMBIA\, MD! \n\n\n\n\n\n\n\n\n\n\n\nSAME EVENT\, SAME PARTY\nIT’S MORE THAN JUST A RUN!\n\n\n\n\n\n\n\n\n\n\n\n\n\n\n\n\n\n\n\n\n\n\n\n\nSATURDAY\, OCTOBER 2\, 2021\nCOLOR BURST PARK IN\nDOWNTOWN COLUMBIA\n10K 5K 1 Mile Walk\n\n\n\n\n\n\n\n\n\n\n\n\n\n\n\n\n\n\n\n\n\n\n\nREGISTER BY SEPTEMBER 1ST AND SAVE $10\nAND GET THIS AWESOME VEST!\n\n\n\n\n\n\n\n\n\n\n\nWhat’s included?\nPremium Vest sponsored by D’Amore Personal Injury Law\nBest post race party in Maryland including-\nThe Dixon Ulmer Band\nMaryland’s Premier Craft Beer Garden\nBloody Mary’s\nOysters\nand much more!!
URL:https://www.bullseyerunning.com/event/the-2021-zaching-running-festival/
LOCATION:Color Burst Park\, 6000 Merriweather Dr\, Columbia\, MD\, 21044\, United States
END:VEVENT
END:VCALENDAR