BEGIN:VCALENDAR
VERSION:2.0
PRODID:-//Bullseye Running - ECPv5.7.0//NONSGML v1.0//EN
CALSCALE:GREGORIAN
METHOD:PUBLISH
X-WR-CALNAME:Bullseye Running
X-ORIGINAL-URL:https://www.bullseyerunning.com
X-WR-CALDESC:Events for Bullseye Running
BEGIN:VTIMEZONE
TZID:UTC
BEGIN:STANDARD
TZOFFSETFROM:+0000
TZOFFSETTO:+0000
TZNAME:UTC
DTSTART:20170101T000000
END:STANDARD
END:VTIMEZONE
BEGIN:VEVENT
DTSTART;TZID=UTC:20171118T083000
DTEND;TZID=UTC:20171118T110000
DTSTAMP:20260422T225138
CREATED:20170815T023822Z
LAST-MODIFIED:20170815T023822Z
UID:1775-1510993800-1511002800@www.bullseyerunning.com
SUMMARY:The Zaching Running Festival at Turf Valley
DESCRIPTION:Saturday\, November 18\, 2017\n10K     5K      1 Mile Family Fun Walk\nRace Start time is 8:30 am\n\nSTART AND FINISH LINE WILL BE AT\nTURF VALLEY TOWNE SQUARE\n11075 RESORT ROAD\nELLICOTT CITY\, MARYLAND 21042\nPacket Pick-up will be at\nPetite Cellars\nThursday\, November 16th 5pm – 8pm\nFriday\,       November 17th 2pm – 7pm
URL:https://www.bullseyerunning.com/event/the-zaching-running-festival-at-turf-valley/
LOCATION:Turf Valley Towne Square\, 11075 Resort Road\, Ellicott City\, MD\, 21042\, United States
END:VEVENT
END:VCALENDAR